BEGIN:VCALENDAR
VERSION:2.0
PRODID:-//Happy Hounds Teeth Cleaning - ECPv6.15.20//NONSGML v1.0//EN
CALSCALE:GREGORIAN
METHOD:PUBLISH
X-WR-CALNAME:Happy Hounds Teeth Cleaning
X-ORIGINAL-URL:https://happyhoundsteeth.com
X-WR-CALDESC:Events for Happy Hounds Teeth Cleaning
REFRESH-INTERVAL;VALUE=DURATION:PT1H
X-Robots-Tag:noindex
X-PUBLISHED-TTL:PT1H
BEGIN:VTIMEZONE
TZID:UTC
BEGIN:STANDARD
TZOFFSETFROM:+0000
TZOFFSETTO:+0000
TZNAME:UTC
DTSTART:20240101T000000
END:STANDARD
END:VTIMEZONE
BEGIN:VEVENT
DTSTART;VALUE=DATE:20251102
DTEND;VALUE=DATE:20251103
DTSTAMP:20260420T235443
CREATED:20251027T195801Z
LAST-MODIFIED:20251027T195830Z
UID:10000405-1762041600-1762127999@happyhoundsteeth.com
SUMMARY:North York Pooches Grooming Salon
DESCRIPTION:Address: 156 Elder St\, North York\, ON M3H 5H1\, Canada \nPhone: +1 416-908-9595
URL:https://happyhoundsteeth.com/event/north-york-pooches-grooming-salon/
LOCATION:North York Pooches Grooming Salon\, 156 Elder St\,North York\,ON M3H 5H1\, North York\, Toronto\, M3H 5H1\, Canada
GEO:43.7638528;-79.4551483
X-APPLE-STRUCTURED-LOCATION;VALUE=URI;X-ADDRESS=North York Pooches Grooming Salon 156 Elder StNorth YorkON M3H 5H1 North York Toronto M3H 5H1 Canada;X-APPLE-RADIUS=500;X-TITLE=156 Elder St\,North York\,ON M3H 5H1:geo:-79.4551483,43.7638528
END:VEVENT
BEGIN:VEVENT
DTSTART;VALUE=DATE:20251116
DTEND;VALUE=DATE:20251117
DTSTAMP:20260420T235443
CREATED:20241128T011411Z
LAST-MODIFIED:20251127T195449Z
UID:10000027-1763251200-1763337599@happyhoundsteeth.com
SUMMARY:Yellow dog Ancaster
DESCRIPTION:73 Wilson St W #23b\, Ancaster\, ON L9G 1N1\, Canada
URL:https://happyhoundsteeth.com/event/yellow-dog-ancaster/2025-11-16/
LOCATION:Yellow Dog Grooming Ancaster\, 73 Wilson St W #23b\, Ancaster\, ON L9G 1N1\, Canada\, Ancaster\, Ontario\, L9G 1N1\, Canada
GEO:43.216253;-79.9902622
X-APPLE-STRUCTURED-LOCATION;VALUE=URI;X-ADDRESS=Yellow Dog Grooming Ancaster 73 Wilson St W #23b Ancaster ON L9G 1N1 Canada Ancaster Ontario L9G 1N1 Canada;X-APPLE-RADIUS=500;X-TITLE=73 Wilson St W #23b\, Ancaster\, ON L9G 1N1\, Canada:geo:-79.9902622,43.216253
END:VEVENT
BEGIN:VEVENT
DTSTART;VALUE=DATE:20251124
DTEND;VALUE=DATE:20251125
DTSTAMP:20260420T235443
CREATED:20251027T231515Z
LAST-MODIFIED:20251027T231515Z
UID:10000444-1763942400-1764028799@happyhoundsteeth.com
SUMMARY:Goochie Poochie
DESCRIPTION:
URL:https://happyhoundsteeth.com/event/goochie-poochie/
LOCATION:Goochie Poochie\, Brinell Avenue 2343\, Burlington\, Regional Municipality of Halton\, L7R 3P6\, Canada
GEO:43.3463065;-79.8054441
X-APPLE-STRUCTURED-LOCATION;VALUE=URI;X-ADDRESS=Goochie Poochie Brinell Avenue 2343 Burlington Regional Municipality of Halton L7R 3P6 Canada;X-APPLE-RADIUS=500;X-TITLE=Brinell Avenue 2343:geo:-79.8054441,43.3463065
END:VEVENT
BEGIN:VEVENT
DTSTART;VALUE=DATE:20251128
DTEND;VALUE=DATE:20251129
DTSTAMP:20260420T235443
CREATED:20241225T223129Z
LAST-MODIFIED:20251027T223738Z
UID:10000437-1764316800-1764349200@happyhoundsteeth.com
SUMMARY:Global Pet Foods Vaughan
DESCRIPTION:Address: Major Mackenzie Drive West 3737 Vaughan\, Regional Municipality of York L4H 0A2 Canada \nPhone: 905-303-2228
URL:https://happyhoundsteeth.com/event/global-pet-foods-vaughan-2/2025-11-28/
LOCATION:Global Pet Foods Vaughan\, Major Mackenzie Drive West 3737\, Vaughan\, Regional Municipality of York\, L4H 0A2\, Canada
GEO:43.843855;-79.5586
X-APPLE-STRUCTURED-LOCATION;VALUE=URI;X-ADDRESS=Global Pet Foods Vaughan Major Mackenzie Drive West 3737 Vaughan Regional Municipality of York L4H 0A2 Canada;X-APPLE-RADIUS=500;X-TITLE=Major Mackenzie Drive West 3737:geo:-79.5586,43.843855
END:VEVENT
BEGIN:VEVENT
DTSTART;VALUE=DATE:20251130
DTEND;VALUE=DATE:20251201
DTSTAMP:20260420T235443
CREATED:20241128T011411Z
LAST-MODIFIED:20251127T195449Z
UID:10000439-1764489600-1764522000@happyhoundsteeth.com
SUMMARY:Yellow dog Ancaster
DESCRIPTION:73 Wilson St W #23b\, Ancaster\, ON L9G 1N1\, Canada
URL:https://happyhoundsteeth.com/event/yellow-dog-ancaster/2025-11-30/
LOCATION:Yellow Dog Grooming Ancaster\, 73 Wilson St W #23b\, Ancaster\, ON L9G 1N1\, Canada\, Ancaster\, Ontario\, L9G 1N1\, Canada
GEO:43.216253;-79.9902622
X-APPLE-STRUCTURED-LOCATION;VALUE=URI;X-ADDRESS=Yellow Dog Grooming Ancaster 73 Wilson St W #23b Ancaster ON L9G 1N1 Canada Ancaster Ontario L9G 1N1 Canada;X-APPLE-RADIUS=500;X-TITLE=73 Wilson St W #23b\, Ancaster\, ON L9G 1N1\, Canada:geo:-79.9902622,43.216253
END:VEVENT
BEGIN:VEVENT
DTSTART;VALUE=DATE:20251204
DTEND;VALUE=DATE:20251205
DTSTAMP:20260420T235443
CREATED:20250930T000117Z
LAST-MODIFIED:20251127T195209Z
UID:10000391-1764806400-1764892799@happyhoundsteeth.com
SUMMARY:Ruffins pet centre Hamilton
DESCRIPTION:
URL:https://happyhoundsteeth.com/event/ruffins-pet-centre-hamilton/
LOCATION:Ruffins pet centre Hamilton\, 581 Main St E\, Hamilton\, ON L8M 1H9\, Canada\, Hamilton\, Ontario\, L8M 1H9\, Canada
GEO:43.2500232;-79.8476008
X-APPLE-STRUCTURED-LOCATION;VALUE=URI;X-ADDRESS=Ruffins pet centre Hamilton 581 Main St E Hamilton ON L8M 1H9 Canada Hamilton Ontario L8M 1H9 Canada;X-APPLE-RADIUS=500;X-TITLE=581 Main St E\, Hamilton\, ON L8M 1H9\, Canada:geo:-79.8476008,43.2500232
END:VEVENT
BEGIN:VEVENT
DTSTART;VALUE=DATE:20251207
DTEND;VALUE=DATE:20251208
DTSTAMP:20260420T235443
CREATED:20241128T011411Z
LAST-MODIFIED:20251127T195449Z
UID:10000469-1765094400-1765126800@happyhoundsteeth.com
SUMMARY:Yellow dog Ancaster
DESCRIPTION:73 Wilson St W #23b\, Ancaster\, ON L9G 1N1\, Canada
URL:https://happyhoundsteeth.com/event/yellow-dog-ancaster/2025-12-07/
LOCATION:Yellow Dog Grooming Ancaster\, 73 Wilson St W #23b\, Ancaster\, ON L9G 1N1\, Canada\, Ancaster\, Ontario\, L9G 1N1\, Canada
GEO:43.216253;-79.9902622
X-APPLE-STRUCTURED-LOCATION;VALUE=URI;X-ADDRESS=Yellow Dog Grooming Ancaster 73 Wilson St W #23b Ancaster ON L9G 1N1 Canada Ancaster Ontario L9G 1N1 Canada;X-APPLE-RADIUS=500;X-TITLE=73 Wilson St W #23b\, Ancaster\, ON L9G 1N1\, Canada:geo:-79.9902622,43.216253
END:VEVENT
BEGIN:VEVENT
DTSTART;VALUE=DATE:20251210
DTEND;VALUE=DATE:20251211
DTSTAMP:20260420T235443
CREATED:20241128T012205Z
LAST-MODIFIED:20251127T195718Z
UID:10000030-1765324800-1765411199@happyhoundsteeth.com
SUMMARY:Social pup Aurora
DESCRIPTION:Scanlon Court 2 Aurora\, Ontario L4G 7B2 Canada
URL:https://happyhoundsteeth.com/event/social-pup-aurora/
LOCATION:The Social Pup Dog daycare\, boarding & grooming\, 2 Scanlon court unit 8 Aurora\, on L4G7B2\, Aurora\, Ontario\, L4G 7B2\, Canada
GEO:44.00503;-79.45886
X-APPLE-STRUCTURED-LOCATION;VALUE=URI;X-ADDRESS=The Social Pup Dog daycare boarding & grooming 2 Scanlon court unit 8 Aurora on L4G7B2 Aurora Ontario L4G 7B2 Canada;X-APPLE-RADIUS=500;X-TITLE=2 Scanlon court unit 8 Aurora\, on L4G7B2:geo:-79.45886,44.00503
END:VEVENT
BEGIN:VEVENT
DTSTART;VALUE=DATE:20251214
DTEND;VALUE=DATE:20251215
DTSTAMP:20260420T235443
CREATED:20241128T011411Z
LAST-MODIFIED:20251127T195449Z
UID:10000470-1765699200-1765731600@happyhoundsteeth.com
SUMMARY:Yellow dog Ancaster
DESCRIPTION:73 Wilson St W #23b\, Ancaster\, ON L9G 1N1\, Canada
URL:https://happyhoundsteeth.com/event/yellow-dog-ancaster/2025-12-14/
LOCATION:Yellow Dog Grooming Ancaster\, 73 Wilson St W #23b\, Ancaster\, ON L9G 1N1\, Canada\, Ancaster\, Ontario\, L9G 1N1\, Canada
GEO:43.216253;-79.9902622
X-APPLE-STRUCTURED-LOCATION;VALUE=URI;X-ADDRESS=Yellow Dog Grooming Ancaster 73 Wilson St W #23b Ancaster ON L9G 1N1 Canada Ancaster Ontario L9G 1N1 Canada;X-APPLE-RADIUS=500;X-TITLE=73 Wilson St W #23b\, Ancaster\, ON L9G 1N1\, Canada:geo:-79.9902622,43.216253
END:VEVENT
BEGIN:VEVENT
DTSTART;VALUE=DATE:20251230
DTEND;VALUE=DATE:20251231
DTSTAMP:20260420T235443
CREATED:20241128T012755Z
LAST-MODIFIED:20260325T211142Z
UID:10000034-1767052800-1767139199@happyhoundsteeth.com
SUMMARY:Global Pet Foods Vaughan
DESCRIPTION:Address: Major Mackenzie Drive West 3737 Vaughan\, Regional Municipality of York L4H 0A2 Canada \nPhone: 905-303-2228
URL:https://happyhoundsteeth.com/event/global-pet-foods-vaughan/2025-12-30/
LOCATION:Global Pet Foods Vaughan\, Major Mackenzie Drive West 3737\, Vaughan\, Regional Municipality of York\, L4H 0A2\, Canada
GEO:43.843855;-79.5586
X-APPLE-STRUCTURED-LOCATION;VALUE=URI;X-ADDRESS=Global Pet Foods Vaughan Major Mackenzie Drive West 3737 Vaughan Regional Municipality of York L4H 0A2 Canada;X-APPLE-RADIUS=500;X-TITLE=Major Mackenzie Drive West 3737:geo:-79.5586,43.843855
END:VEVENT
BEGIN:VEVENT
DTSTART;VALUE=DATE:20260108
DTEND;VALUE=DATE:20260109
DTSTAMP:20260420T235443
CREATED:20251027T230615Z
LAST-MODIFIED:20251229T220021Z
UID:10000442-1767830400-1767916799@happyhoundsteeth.com
SUMMARY:Bone & Biscuit Mississauga Parkside
DESCRIPTION:Address: 432 Square One Dr\, Mississauga\, ON L5B 0L6\, Canada \nPhone: +1 905-566-9697
URL:https://happyhoundsteeth.com/event/bone-biscuit-mississauga-parkside/
LOCATION:the Bone & Biscuit Mississauga Parkside\, 432 Square One Dr\, Mississauga\, ON L5B 0L6\, Canada\, Mississauga\, Ontario\, L5B 0L6\, Canada
GEO:43.58817;-79.6507
X-APPLE-STRUCTURED-LOCATION;VALUE=URI;X-ADDRESS=the Bone & Biscuit Mississauga Parkside 432 Square One Dr Mississauga ON L5B 0L6 Canada Mississauga Ontario L5B 0L6 Canada;X-APPLE-RADIUS=500;X-TITLE=432 Square One Dr\, Mississauga\, ON L5B 0L6\, Canada:geo:-79.6507,43.58817
END:VEVENT
BEGIN:VEVENT
DTSTART;VALUE=DATE:20260115
DTEND;VALUE=DATE:20260116
DTSTAMP:20260420T235443
CREATED:20250623T221034Z
LAST-MODIFIED:20251229T224646Z
UID:10000521-1768435200-1768521599@happyhoundsteeth.com
SUMMARY:Global Pet Foods Woodbridge
DESCRIPTION:Address: Weston Road 7887 Vaughan\,Regional Municipality of YorkL4L 1A6 Canada. \nPhone: 905 851-4297
URL:https://happyhoundsteeth.com/event/global-pet-foods-woodbridge/
LOCATION:Global Pet Foods Woodbridge\, Weston Road 7887\, Vaughan\, Regional Municipality of York\, L4L 1A6\, Canada
GEO:43.7922411;-79.5472603
X-APPLE-STRUCTURED-LOCATION;VALUE=URI;X-ADDRESS=Global Pet Foods Woodbridge Weston Road 7887 Vaughan Regional Municipality of York L4L 1A6 Canada;X-APPLE-RADIUS=500;X-TITLE=Weston Road 7887:geo:-79.5472603,43.7922411
END:VEVENT
BEGIN:VEVENT
DTSTART;VALUE=DATE:20260127
DTEND;VALUE=DATE:20260128
DTSTAMP:20260420T235443
CREATED:20251229T221447Z
LAST-MODIFIED:20251229T221447Z
UID:10000393-1769472000-1769558399@happyhoundsteeth.com
SUMMARY:Paws Avenue Lorne Park
DESCRIPTION:1107 Lorne Park Rd Unit 21 Mississauga\, ON L5H 3A1 \nPhone: 1-905-990-5505
URL:https://happyhoundsteeth.com/event/paws-avenue-lorne-park-2/
LOCATION:Paws Avenue Lorne Park\, Lorne Park Road 1107\, Mississauga\, Regional Municipality of Peel\, L5H 3A1\, Canada
GEO:43.5322;-79.6122879
X-APPLE-STRUCTURED-LOCATION;VALUE=URI;X-ADDRESS=Paws Avenue Lorne Park Lorne Park Road 1107 Mississauga Regional Municipality of Peel L5H 3A1 Canada;X-APPLE-RADIUS=500;X-TITLE=Lorne Park Road 1107:geo:-79.6122879,43.5322
END:VEVENT
BEGIN:VEVENT
DTSTART;VALUE=DATE:20260128
DTEND;VALUE=DATE:20260129
DTSTAMP:20260420T235443
CREATED:20251229T221512Z
LAST-MODIFIED:20260227T221920Z
UID:10000434-1769558400-1769644799@happyhoundsteeth.com
SUMMARY:Bone and Biscuit St Catharines
DESCRIPTION:Address: 295 Fourth Ave Unit G1\, St. Catharines\, ON L2S 0E7 \nPhone: 1-905-688-8353
URL:https://happyhoundsteeth.com/event/bone-and-biscuit-st-catharines-2/2026-01-28/
LOCATION:Bone and Biscuit St Catharines\, 295 Fourth Ave Unit G1\, St. Catharines\, ON L2S 0E7\, St. Catharines\, Regional Municipality of Niagara\, L2S 0E7\, Canada
GEO:43.1593745;-79.2468626
X-APPLE-STRUCTURED-LOCATION;VALUE=URI;X-ADDRESS=Bone and Biscuit St Catharines 295 Fourth Ave Unit G1 St. Catharines ON L2S 0E7 St. Catharines Regional Municipality of Niagara L2S 0E7 Canada;X-APPLE-RADIUS=500;X-TITLE=295 Fourth Ave Unit G1\, St. Catharines\, ON L2S 0E7:geo:-79.2468626,43.1593745
END:VEVENT
BEGIN:VEVENT
DTSTART;TZID=UTC:20260129T080000
DTEND;TZID=UTC:20260129T170000
DTSTAMP:20260420T235443
CREATED:20260129T192043Z
LAST-MODIFIED:20260129T192409Z
UID:10000556-1769673600-1769706000@happyhoundsteeth.com
SUMMARY:Pet Valu Arnprior Ontario
DESCRIPTION:Address:3 Arthur St. Arnprior. ON K7S 1A1 \nPhone:(613) 623-7403
URL:https://happyhoundsteeth.com/event/pet-valu-arnprior-ontario/
LOCATION:Pet Valu Arnprior Ontario\, 3 Arthur St. Arnprior. ON\, St. Arnprior\, Ontario\, K7S 1A1\, Canada
GEO:45.4252665;-76.3646854
X-APPLE-STRUCTURED-LOCATION;VALUE=URI;X-ADDRESS=Pet Valu Arnprior Ontario 3 Arthur St. Arnprior. ON St. Arnprior Ontario K7S 1A1 Canada;X-APPLE-RADIUS=500;X-TITLE=3 Arthur St. Arnprior. ON:geo:-76.3646854,45.4252665
END:VEVENT
BEGIN:VEVENT
DTSTART;VALUE=DATE:20260130
DTEND;VALUE=DATE:20260131
DTSTAMP:20260420T235443
CREATED:20251229T221631Z
LAST-MODIFIED:20251229T221632Z
UID:10000473-1769731200-1769817599@happyhoundsteeth.com
SUMMARY:Global Pet Foods Waterdown
DESCRIPTION:Address: Dundas Street East 255 Hamilton\, Ontario L8B 0E5 Canada \nPhone #: 1 289-895-8540
URL:https://happyhoundsteeth.com/event/global-pet-foods-waterdown-2/
LOCATION:Global Pet Foods Waterdown\, Dundas Street East 255\, Hamilton\, Hamilton\, L8B 0E5\, Canada
GEO:43.3299988;-79.8982038
X-APPLE-STRUCTURED-LOCATION;VALUE=URI;X-ADDRESS=Global Pet Foods Waterdown Dundas Street East 255 Hamilton Hamilton L8B 0E5 Canada;X-APPLE-RADIUS=500;X-TITLE=Dundas Street East 255:geo:-79.8982038,43.3299988
END:VEVENT
BEGIN:VEVENT
DTSTART;VALUE=DATE:20260201
DTEND;VALUE=DATE:20260202
DTSTAMP:20260420T235443
CREATED:20250501T232737Z
LAST-MODIFIED:20260128T171155Z
UID:10000213-1769904000-1769990399@happyhoundsteeth.com
SUMMARY:Pet Valu Georgetown
DESCRIPTION:Address: 369 Mountainview Rd S #361\, Georgetown\, ON L7G 5X3\, Canada Georgetown\, Regional Municipality of Halton L7G 5X3 Canada\nPhone: +1-905-702-0340
URL:https://happyhoundsteeth.com/event/pet-valu-georgetown/
LOCATION:Pet Valu Georgetown\, 369 Mountainview Rd S #361\, Georgetown\, ON L7G 5X3\, Canada\, Georgetown\, Regional Municipality of Halton\, L7G 5X3\, Canada
GEO:43.6316301;-79.8757296
X-APPLE-STRUCTURED-LOCATION;VALUE=URI;X-ADDRESS=Pet Valu Georgetown 369 Mountainview Rd S #361 Georgetown ON L7G 5X3 Canada Georgetown Regional Municipality of Halton L7G 5X3 Canada;X-APPLE-RADIUS=500;X-TITLE=369 Mountainview Rd S #361\, Georgetown\, ON L7G 5X3\, Canada:geo:-79.8757296,43.6316301
END:VEVENT
BEGIN:VEVENT
DTSTART;VALUE=DATE:20260202
DTEND;VALUE=DATE:20260203
DTSTAMP:20260420T235443
CREATED:20250923T221051Z
LAST-MODIFIED:20260128T171412Z
UID:10000369-1769990400-1770076799@happyhoundsteeth.com
SUMMARY:Dog Sense Day Care & Grooming
DESCRIPTION:Address: 535 Wilson Heights Blvd\, Toronto\, ON M3H 2V7\, Canada\nPhone: +1 416-630-5255
URL:https://happyhoundsteeth.com/event/dog-sense-day-care-grooming/
LOCATION:Dog Sense Day Care & Grooming\, 535 Wilson Heights Blvd\, Toronto\, ON M3H 2V7\, Canada\, Toronto\, Ontario\, M3H 2V7\, Canada
GEO:43.7511543;-79.4555124
X-APPLE-STRUCTURED-LOCATION;VALUE=URI;X-ADDRESS=Dog Sense Day Care & Grooming 535 Wilson Heights Blvd Toronto ON M3H 2V7 Canada Toronto Ontario M3H 2V7 Canada;X-APPLE-RADIUS=500;X-TITLE=535 Wilson Heights Blvd\, Toronto\, ON M3H 2V7\, Canada:geo:-79.4555124,43.7511543
END:VEVENT
BEGIN:VEVENT
DTSTART;VALUE=DATE:20260208
DTEND;VALUE=DATE:20260209
DTSTAMP:20260420T235443
CREATED:20251229T220450Z
LAST-MODIFIED:20260128T172610Z
UID:10000547-1770508800-1770595199@happyhoundsteeth.com
SUMMARY:Mas and Paws Pet Resort
DESCRIPTION:Address: Saint Johns Side Road 5542 Whitchurch-Stouffville\, Ontario L3Y 4W1 Canada \nPhone #: 289-926-9822
URL:https://happyhoundsteeth.com/event/mas-and-paws-pet-resort-2/2026-02-08/
LOCATION:Mas and Paws Pet Resort\, Saint Johns Side Road 5542\, Whitchurch-Stouffville\, Regional Municipality of York\, L3Y 4W1\, Canada
GEO:44.0587876;-79.2919708
X-APPLE-STRUCTURED-LOCATION;VALUE=URI;X-ADDRESS=Mas and Paws Pet Resort Saint Johns Side Road 5542 Whitchurch-Stouffville Regional Municipality of York L3Y 4W1 Canada;X-APPLE-RADIUS=500;X-TITLE=Saint Johns Side Road 5542:geo:-79.2919708,44.0587876
END:VEVENT
BEGIN:VEVENT
DTSTART;VALUE=DATE:20260209
DTEND;VALUE=DATE:20260210
DTSTAMP:20260420T235443
CREATED:20251229T220450Z
LAST-MODIFIED:20260128T172610Z
UID:10000548-1770624000-1770656400@happyhoundsteeth.com
SUMMARY:Mas and Paws Pet Resort
DESCRIPTION:Address: Saint Johns Side Road 5542 Whitchurch-Stouffville\, Ontario L3Y 4W1 Canada \nPhone #: 289-926-9822
URL:https://happyhoundsteeth.com/event/mas-and-paws-pet-resort-2/2026-02-09/
LOCATION:Mas and Paws Pet Resort\, Saint Johns Side Road 5542\, Whitchurch-Stouffville\, Regional Municipality of York\, L3Y 4W1\, Canada
GEO:44.0587876;-79.2919708
X-APPLE-STRUCTURED-LOCATION;VALUE=URI;X-ADDRESS=Mas and Paws Pet Resort Saint Johns Side Road 5542 Whitchurch-Stouffville Regional Municipality of York L3Y 4W1 Canada;X-APPLE-RADIUS=500;X-TITLE=Saint Johns Side Road 5542:geo:-79.2919708,44.0587876
END:VEVENT
BEGIN:VEVENT
DTSTART;VALUE=DATE:20260211
DTEND;VALUE=DATE:20260212
DTSTAMP:20260420T235443
CREATED:20241120T191803Z
LAST-MODIFIED:20260128T172845Z
UID:10000025-1770768000-1770854399@happyhoundsteeth.com
SUMMARY:The Social Pup
DESCRIPTION:The Social Pup Dog daycare\, boarding & grooming\, Yonge Street\, Aurora\, ON\, Canada
URL:https://happyhoundsteeth.com/event/the-social-pup/
LOCATION:The Social Pup Dog daycare\, boarding & grooming\, 2 Scanlon court unit 8 Aurora\, on L4G7B2\, Aurora\, Ontario\, L4G 7B2\, Canada
ATTACH;FMTTYPE=image/jpeg:https://happyhoundsteeth.com/wp-content/uploads/2024/11/event-img.jpg
GEO:44.00503;-79.45886
X-APPLE-STRUCTURED-LOCATION;VALUE=URI;X-ADDRESS=The Social Pup Dog daycare boarding & grooming 2 Scanlon court unit 8 Aurora on L4G7B2 Aurora Ontario L4G 7B2 Canada;X-APPLE-RADIUS=500;X-TITLE=2 Scanlon court unit 8 Aurora\, on L4G7B2:geo:-79.45886,44.00503
END:VEVENT
BEGIN:VEVENT
DTSTART;VALUE=DATE:20260211
DTEND;VALUE=DATE:20260212
DTSTAMP:20260420T235443
CREATED:20250125T014944Z
LAST-MODIFIED:20260128T172732Z
UID:10000126-1770768000-1770854399@happyhoundsteeth.com
SUMMARY:Barks N Rec Mississauga
DESCRIPTION:Address: Barks N Rec\, Matheson Boulevard 1590 Mississauga\, Regional Municipality of Peel L4W 1J1 Canada \nPhone: 1-905-629-2622
URL:https://happyhoundsteeth.com/event/barks-n-rec-mississauga/
LOCATION:Barks N Rec\, Matheson Boulevard 1590\, Mississauga\, Regional Municipality of Peel\, L4W 1J1\, Canada
GEO:43.6421302;-79.6276644
X-APPLE-STRUCTURED-LOCATION;VALUE=URI;X-ADDRESS=Barks N Rec Matheson Boulevard 1590 Mississauga Regional Municipality of Peel L4W 1J1 Canada;X-APPLE-RADIUS=500;X-TITLE=Matheson Boulevard 1590:geo:-79.6276644,43.6421302
END:VEVENT
BEGIN:VEVENT
DTSTART;VALUE=DATE:20260215
DTEND;VALUE=DATE:20260216
DTSTAMP:20260420T235443
CREATED:20250225T222707Z
LAST-MODIFIED:20260128T173139Z
UID:10000133-1771113600-1771199999@happyhoundsteeth.com
SUMMARY:Pet Valu Clarkson
DESCRIPTION:Address: Pet Valu Clarkson\, Southdown Road 950 Mississauga\, Ontario L5J 2Y4 Canada Mississauga\, Ontario L5J 2Y4 \nPhone: 1-905-855-8262
URL:https://happyhoundsteeth.com/event/pet-valu-clarkson/
LOCATION:Pet Valu Clarkson\, Southdown Road 950 Mississauga\, Ontario L5J 2Y4 Canada\, Mississauga\, Ontario\, L5J 2Y4
GEO:43.50882;-79.63175
X-APPLE-STRUCTURED-LOCATION;VALUE=URI;X-ADDRESS=Pet Valu Clarkson Southdown Road 950 Mississauga Ontario L5J 2Y4 Canada Mississauga Ontario L5J 2Y4;X-APPLE-RADIUS=500;X-TITLE=Southdown Road 950 Mississauga\, Ontario L5J 2Y4 Canada:geo:-79.63175,43.50882
END:VEVENT
BEGIN:VEVENT
DTSTART;VALUE=DATE:20260218
DTEND;VALUE=DATE:20260219
DTSTAMP:20260420T235443
CREATED:20241128T233032Z
LAST-MODIFIED:20260128T173336Z
UID:10000043-1771372800-1771459199@happyhoundsteeth.com
SUMMARY:Bone and Biscuit Aurora
DESCRIPTION:14889 Yonge Street Unit 1 Aurora\, ON L4G1M9 \n905-713-3603
URL:https://happyhoundsteeth.com/event/bone-and-biscuit-aurora/
LOCATION:Bone and Biscuit Aurora\, Yonge Street 14889\, Aurora\, Regional Municipality of York\, L4G 1M9\, Canada
ATTACH;FMTTYPE=image/jpeg:https://happyhoundsteeth.com/wp-content/uploads/2024/11/event-img.jpg
GEO:43.9911798;-79.4651252
X-APPLE-STRUCTURED-LOCATION;VALUE=URI;X-ADDRESS=Bone and Biscuit Aurora Yonge Street 14889 Aurora Regional Municipality of York L4G 1M9 Canada;X-APPLE-RADIUS=500;X-TITLE=Yonge Street 14889:geo:-79.4651252,43.9911798
END:VEVENT
BEGIN:VEVENT
DTSTART;VALUE=DATE:20260220
DTEND;VALUE=DATE:20260221
DTSTAMP:20260420T235443
CREATED:20250623T222823Z
LAST-MODIFIED:20260128T173434Z
UID:10000283-1771545600-1771631999@happyhoundsteeth.com
SUMMARY:global pet foods woodbine
DESCRIPTION:
URL:https://happyhoundsteeth.com/event/global-pet-foods-woodbine/
LOCATION:Global Pet Foods Woodbine\, Woodbine Avenue 9255\, Markham\, Ontario\, L6C 1Y9\, Canada
GEO:43.8691725;-79.3619119
X-APPLE-STRUCTURED-LOCATION;VALUE=URI;X-ADDRESS=Global Pet Foods Woodbine Woodbine Avenue 9255 Markham Ontario L6C 1Y9 Canada;X-APPLE-RADIUS=500;X-TITLE=Woodbine Avenue 9255:geo:-79.3619119,43.8691725
END:VEVENT
BEGIN:VEVENT
DTSTART;VALUE=DATE:20260225
DTEND;VALUE=DATE:20260226
DTSTAMP:20260420T235443
CREATED:20250328T013614Z
LAST-MODIFIED:20260128T174022Z
UID:10000185-1771977600-1772063999@happyhoundsteeth.com
SUMMARY:Global Pet Foods Burlington North
DESCRIPTION:Address: Dundas Street 3550 Burlington\, Ontario L7M 4B8 Canada \nPhone: +1 90-5319-1999
URL:https://happyhoundsteeth.com/event/global-pet-foods-burlington-north/
LOCATION:Global Pet Foods Burlington North\, Dundas Street 3550\, Burlington\, Ontario\, L7M 4B8\, Canada
GEO:43.3898059;-79.823141
X-APPLE-STRUCTURED-LOCATION;VALUE=URI;X-ADDRESS=Global Pet Foods Burlington North Dundas Street 3550 Burlington Ontario L7M 4B8 Canada;X-APPLE-RADIUS=500;X-TITLE=Dundas Street 3550:geo:-79.823141,43.3898059
END:VEVENT
BEGIN:VEVENT
DTSTART;VALUE=DATE:20260226
DTEND;VALUE=DATE:20260227
DTSTAMP:20260420T235443
CREATED:20250328T014854Z
LAST-MODIFIED:20260128T174141Z
UID:10000187-1772064000-1772150399@happyhoundsteeth.com
SUMMARY:Classy K9 Toronto
DESCRIPTION:Address: Gerrard Street East 1959 Toronto\, Ontario M4E 2A9 Canada\nPhone: +1 647-402-5595
URL:https://happyhoundsteeth.com/event/classy-k9-toronto/
LOCATION:Classy K9 Toronto\, Gerrard Street East 1959\, Toronto\, Ontario\, M4E 2A9\, Canada
GEO:43.6810499;-79.3099928
X-APPLE-STRUCTURED-LOCATION;VALUE=URI;X-ADDRESS=Classy K9 Toronto Gerrard Street East 1959 Toronto Ontario M4E 2A9 Canada;X-APPLE-RADIUS=500;X-TITLE=Gerrard Street East 1959:geo:-79.3099928,43.6810499
END:VEVENT
BEGIN:VEVENT
DTSTART;VALUE=DATE:20260227
DTEND;VALUE=DATE:20260228
DTSTAMP:20260420T235443
CREATED:20241128T013325Z
LAST-MODIFIED:20260325T201133Z
UID:10000038-1772150400-1772236799@happyhoundsteeth.com
SUMMARY:Bone and Biscuit Port Credit
DESCRIPTION:Address: 175 Lakeshore Rd W Unit 4 Mississauga\, ON L5h 0A6\nPhone: +1 905-274-9737 \n 
URL:https://happyhoundsteeth.com/event/bone-and-biscuit-port-credit/2026-02-27/
LOCATION:Bone and Biscuit Port Credit\, Lakeshore Road West 175\, Mississauga\, Regional Municipality of Peel\, L5H 1G5\, Canada
GEO:43.5474241;-79.5898509
X-APPLE-STRUCTURED-LOCATION;VALUE=URI;X-ADDRESS=Bone and Biscuit Port Credit Lakeshore Road West 175 Mississauga Regional Municipality of Peel L5H 1G5 Canada;X-APPLE-RADIUS=500;X-TITLE=Lakeshore Road West 175:geo:-79.5898509,43.5474241
END:VEVENT
BEGIN:VEVENT
DTSTART;VALUE=DATE:20260227
DTEND;VALUE=DATE:20260228
DTSTAMP:20260420T235443
CREATED:20251229T221156Z
LAST-MODIFIED:20260227T221218Z
UID:10000436-1772150400-1772236799@happyhoundsteeth.com
SUMMARY:Bone and Biscuit Yonge Sheppard
DESCRIPTION:Address: 4841 Yonge st unit 119A North York\, ON M2N 5X2 North York\, Ontario M2N 5X2 Canada \nPhone#: 647 368 8358
URL:https://happyhoundsteeth.com/event/bone-and-biscuit-yonge-sheppard-2/2026-02-27/
LOCATION:Bone and Biscuit Yonge Sheppard\, 4841 Yonge st unit 119A North York\, ON M2N 5X2\, North York\, Ontario\, M2N 5X2\, Canada
ATTACH;FMTTYPE=image/jpeg:https://happyhoundsteeth.com/wp-content/uploads/2024/11/event-img.jpg
GEO:43.7624589;-79.4104277
X-APPLE-STRUCTURED-LOCATION;VALUE=URI;X-ADDRESS=Bone and Biscuit Yonge Sheppard 4841 Yonge st unit 119A North York ON M2N 5X2 North York Ontario M2N 5X2 Canada;X-APPLE-RADIUS=500;X-TITLE=4841 Yonge st unit 119A North York\, ON M2N 5X2:geo:-79.4104277,43.7624589
END:VEVENT
BEGIN:VEVENT
DTSTART;VALUE=DATE:20260228
DTEND;VALUE=DATE:20260301
DTSTAMP:20260420T235443
CREATED:20241225T220947Z
LAST-MODIFIED:20260227T215949Z
UID:10000093-1772236800-1772323199@happyhoundsteeth.com
SUMMARY:Global Pet Foods Waterdown
DESCRIPTION:Address: Dundas Street East 255 Hamilton\, Ontario L8B 0E5 Canada \nPhone #: 1 289-895-8540
URL:https://happyhoundsteeth.com/event/global-pet-foods-waterdown/
LOCATION:Global Pet Foods Waterdown\, Dundas Street East 255\, Hamilton\, Hamilton\, L8B 0E5\, Canada
GEO:43.3299988;-79.8982038
X-APPLE-STRUCTURED-LOCATION;VALUE=URI;X-ADDRESS=Global Pet Foods Waterdown Dundas Street East 255 Hamilton Hamilton L8B 0E5 Canada;X-APPLE-RADIUS=500;X-TITLE=Dundas Street East 255:geo:-79.8982038,43.3299988
END:VEVENT
END:VCALENDAR