BEGIN:VCALENDAR
VERSION:2.0
PRODID:-//Happy Hounds Teeth Cleaning - ECPv6.15.20//NONSGML v1.0//EN
CALSCALE:GREGORIAN
METHOD:PUBLISH
X-WR-CALNAME:Happy Hounds Teeth Cleaning
X-ORIGINAL-URL:https://happyhoundsteeth.com
X-WR-CALDESC:Events for Happy Hounds Teeth Cleaning
REFRESH-INTERVAL;VALUE=DURATION:PT1H
X-Robots-Tag:noindex
X-PUBLISHED-TTL:PT1H
BEGIN:VTIMEZONE
TZID:UTC
BEGIN:STANDARD
TZOFFSETFROM:+0000
TZOFFSETTO:+0000
TZNAME:UTC
DTSTART:20250101T000000
END:STANDARD
END:VTIMEZONE
BEGIN:VEVENT
DTSTART;VALUE=DATE:20260409
DTEND;VALUE=DATE:20260410
DTSTAMP:20260420T162240
CREATED:20260325T194152Z
LAST-MODIFIED:20260325T200147Z
UID:10000629-1775721600-1775754000@happyhoundsteeth.com
SUMMARY:Happy Hounds Teeth (Home Location)
DESCRIPTION:Address: 3755 Lake Shore Blvd W\, Etobicoke\, ON M8W 1P9\, Canada \nPhone: 416 201-0236
URL:https://happyhoundsteeth.com/event/happy-hounds-teeth-home-location-2/2026-04-09/
LOCATION:Happy Hounds Teeth (Home Location)\, 3755 Lake Shore Blvd W\, Etobicoke\, ON M8W 1P9\, Canada\, Etobicoke\, Ontario\, M8W 1P9\, Canada
GEO:43.5925898;-79.5403041
X-APPLE-STRUCTURED-LOCATION;VALUE=URI;X-ADDRESS=Happy Hounds Teeth (Home Location) 3755 Lake Shore Blvd W Etobicoke ON M8W 1P9 Canada Etobicoke Ontario M8W 1P9 Canada;X-APPLE-RADIUS=500;X-TITLE=3755 Lake Shore Blvd W\, Etobicoke\, ON M8W 1P9\, Canada:geo:-79.5403041,43.5925898
END:VEVENT
BEGIN:VEVENT
DTSTART;VALUE=DATE:20260410
DTEND;VALUE=DATE:20260411
DTSTAMP:20260420T162240
CREATED:20241225T214152Z
LAST-MODIFIED:20260325T201026Z
UID:10000078-1775779200-1775865599@happyhoundsteeth.com
SUMMARY:Global Pet Foods New Market
DESCRIPTION:Address: Davis Drive 130 Newmarket\, Ontario L3Y 8V4 Canada \nPhone #: (905) 898-7910
URL:https://happyhoundsteeth.com/event/global-pet-foods-new-market/
LOCATION:Global Pet Foods New Market\, Davis Drive 130\, Newmarket\, Regional Municipality of York\, L3Y 8V4\, Canada
GEO:44.0555013;-79.4752443
X-APPLE-STRUCTURED-LOCATION;VALUE=URI;X-ADDRESS=Global Pet Foods New Market Davis Drive 130 Newmarket Regional Municipality of York L3Y 8V4 Canada;X-APPLE-RADIUS=500;X-TITLE=Davis Drive 130:geo:-79.4752443,44.0555013
END:VEVENT
BEGIN:VEVENT
DTSTART;VALUE=DATE:20260410
DTEND;VALUE=DATE:20260411
DTSTAMP:20260420T162240
CREATED:20241128T013325Z
LAST-MODIFIED:20260325T201133Z
UID:10000646-1775808000-1775840400@happyhoundsteeth.com
SUMMARY:Bone and Biscuit Port Credit
DESCRIPTION:Address: 175 Lakeshore Rd W Unit 4 Mississauga\, ON L5h 0A6\nPhone: +1 905-274-9737 \n 
URL:https://happyhoundsteeth.com/event/bone-and-biscuit-port-credit/2026-04-10/
LOCATION:Bone and Biscuit Port Credit\, Lakeshore Road West 175\, Mississauga\, Regional Municipality of Peel\, L5H 1G5\, Canada
GEO:43.5474241;-79.5898509
X-APPLE-STRUCTURED-LOCATION;VALUE=URI;X-ADDRESS=Bone and Biscuit Port Credit Lakeshore Road West 175 Mississauga Regional Municipality of Peel L5H 1G5 Canada;X-APPLE-RADIUS=500;X-TITLE=Lakeshore Road West 175:geo:-79.5898509,43.5474241
END:VEVENT
BEGIN:VEVENT
DTSTART;VALUE=DATE:20260410
DTEND;VALUE=DATE:20260411
DTSTAMP:20260420T162240
CREATED:20241225T210238Z
LAST-MODIFIED:20260325T200922Z
UID:10000644-1775808000-1775840400@happyhoundsteeth.com
SUMMARY:Bone & Biscuit Vaughan East
DESCRIPTION:Address: Bathurst Street 9330 Vaughan\, Regional Municipality of York L6A 4N9 Canada \nPhone #:  1-905-303-1111
URL:https://happyhoundsteeth.com/event/bone-biscuit-vaughan-east/2026-04-10/
LOCATION:Bone & Biscuit Vaughan East\, Bathurst Street 9330\, Vaughan\, Regional Municipality of York\, L6A 4N9\, Canada
GEO:43.8489688;-79.4594455
X-APPLE-STRUCTURED-LOCATION;VALUE=URI;X-ADDRESS=Bone & Biscuit Vaughan East Bathurst Street 9330 Vaughan Regional Municipality of York L6A 4N9 Canada;X-APPLE-RADIUS=500;X-TITLE=Bathurst Street 9330:geo:-79.4594455,43.8489688
END:VEVENT
BEGIN:VEVENT
DTSTART;VALUE=DATE:20260411
DTEND;VALUE=DATE:20260412
DTSTAMP:20260420T162240
CREATED:20250623T223113Z
LAST-MODIFIED:20260325T201418Z
UID:10000284-1775865600-1775951999@happyhoundsteeth.com
SUMMARY:global Pet Foods Stouffville
DESCRIPTION:Address: 5892 Main St Unit 305\, Whitchurch-Stouffville\, ON L4A 2S7\, Canada \nPhone: 905-640-7387
URL:https://happyhoundsteeth.com/event/global-pet-foods-stouffville/
LOCATION:Global Pet Foods Stouffville\, 5892 Main St Unit 305\, Whitchurch-Stouffville\, ON\, Ontario\, L4A 2S7\, Canada
GEO:43.9692665;-79.2592389
X-APPLE-STRUCTURED-LOCATION;VALUE=URI;X-ADDRESS=Global Pet Foods Stouffville 5892 Main St Unit 305 Whitchurch-Stouffville ON Ontario L4A 2S7 Canada;X-APPLE-RADIUS=500;X-TITLE=5892 Main St Unit 305\, Whitchurch-Stouffville:geo:-79.2592389,43.9692665
END:VEVENT
BEGIN:VEVENT
DTSTART;VALUE=DATE:20260411
DTEND;VALUE=DATE:20260412
DTSTAMP:20260420T162240
CREATED:20260325T201333Z
LAST-MODIFIED:20260325T202544Z
UID:10000582-1775865600-1775951999@happyhoundsteeth.com
SUMMARY:Back to the bone oakville
DESCRIPTION:Address: Back To The Bone Oakville\, 380 Dundas St E #2D\, Oakville\,L6H 6Z9 Oakville\, Ontario L6H 6Z9 Canada \nPhone: 1-905-257-3444
URL:https://happyhoundsteeth.com/event/back-to-the-bone-oakville-2-2-2/2026-04-11/
LOCATION:Back To The Bone Oakville\, 380 Dundas St E #2D\, Oakville\,L6H 6Z9\, Oakville\, Ontario\, L6H 6Z9\, Canada
GEO:43.4887642;-79.7172321
X-APPLE-STRUCTURED-LOCATION;VALUE=URI;X-ADDRESS=Back To The Bone Oakville 380 Dundas St E #2D OakvilleL6H 6Z9 Oakville Ontario L6H 6Z9 Canada;X-APPLE-RADIUS=500;X-TITLE=380 Dundas St E #2D\, Oakville\,L6H 6Z9:geo:-79.7172321,43.4887642
END:VEVENT
BEGIN:VEVENT
DTSTART;VALUE=DATE:20260412
DTEND;VALUE=DATE:20260413
DTSTAMP:20260420T162240
CREATED:20241225T212224Z
LAST-MODIFIED:20260326T181705Z
UID:10000076-1775952000-1776038399@happyhoundsteeth.com
SUMMARY:TailBlazers Stoney Creek
DESCRIPTION:Address: Mud Street West 280 Hamilton\, Ontario L8J 3Z6 Canada \nPhone #: 289 389-6677
URL:https://happyhoundsteeth.com/event/tailblazers-stoney-creek/
LOCATION:TailBlazers Stoney Creek\, Mud Street West 280\, Hamilton\, Hamilton\, L8J 3Z6\, Canada
GEO:43.196447;-79.7941045
X-APPLE-STRUCTURED-LOCATION;VALUE=URI;X-ADDRESS=TailBlazers Stoney Creek Mud Street West 280 Hamilton Hamilton L8J 3Z6 Canada;X-APPLE-RADIUS=500;X-TITLE=Mud Street West 280:geo:-79.7941045,43.196447
END:VEVENT
BEGIN:VEVENT
DTSTART;VALUE=DATE:20260412
DTEND;VALUE=DATE:20260413
DTSTAMP:20260420T162240
CREATED:20241225T221758Z
LAST-MODIFIED:20260325T201845Z
UID:10000097-1775952000-1776038399@happyhoundsteeth.com
SUMMARY:New Castle Pet Supply
DESCRIPTION:
URL:https://happyhoundsteeth.com/event/new-castle-pet-supply-2/
LOCATION:New Castle Pet Supply\, King Avenue East 361\, Newcastle\, Regional Municipality of Durham\, L1B 1H4\, Canada
GEO:43.9191137;-78.5810632
X-APPLE-STRUCTURED-LOCATION;VALUE=URI;X-ADDRESS=New Castle Pet Supply King Avenue East 361 Newcastle Regional Municipality of Durham L1B 1H4 Canada;X-APPLE-RADIUS=500;X-TITLE=King Avenue East 361:geo:-78.5810632,43.9191137
END:VEVENT
BEGIN:VEVENT
DTSTART;VALUE=DATE:20260412
DTEND;VALUE=DATE:20260413
DTSTAMP:20260420T162240
CREATED:20260325T201720Z
LAST-MODIFIED:20260325T201757Z
UID:10000648-1775952000-1776038399@happyhoundsteeth.com
SUMMARY:Back To The Bone Burlington
DESCRIPTION:Address: 495 Walkers Line\, Burlington\, ON L7N 2E3\, Canada \nPhone: +1 289-337-4577
URL:https://happyhoundsteeth.com/event/back-to-the-bone-burlington/2026-04-12/
LOCATION:Back to The Bone Burlington\, Walkers Line 495\, Burlington\, Regional Municipality of Halton\, L7N 2E3\, Canada
GEO:43.354244;-79.7702143
X-APPLE-STRUCTURED-LOCATION;VALUE=URI;X-ADDRESS=Back to The Bone Burlington Walkers Line 495 Burlington Regional Municipality of Halton L7N 2E3 Canada;X-APPLE-RADIUS=500;X-TITLE=Walkers Line 495:geo:-79.7702143,43.354244
END:VEVENT
BEGIN:VEVENT
DTSTART;VALUE=DATE:20260413
DTEND;VALUE=DATE:20260414
DTSTAMP:20260420T162240
CREATED:20250507T010538Z
LAST-MODIFIED:20260325T212817Z
UID:10000214-1776038400-1776124799@happyhoundsteeth.com
SUMMARY:Pet Valu Brantford
DESCRIPTION:Address: 50 Market St S\, Brantford\, ON N3S 2E3\, Canada\nPhone: +1 519-754-0740
URL:https://happyhoundsteeth.com/event/pet-valu-brantford/
LOCATION:Pet Valu Brantford\, 50 Market St S\, Brantford\, ON N3S 2E3\, Canada\, Brantford\, Ontario\, N3S 2E3\, Canada
GEO:43.1364311;-80.2628191
X-APPLE-STRUCTURED-LOCATION;VALUE=URI;X-ADDRESS=Pet Valu Brantford 50 Market St S Brantford ON N3S 2E3 Canada Brantford Ontario N3S 2E3 Canada;X-APPLE-RADIUS=500;X-TITLE=50 Market St S\, Brantford\, ON N3S 2E3\, Canada:geo:-80.2628191,43.1364311
END:VEVENT
BEGIN:VEVENT
DTSTART;VALUE=DATE:20260413
DTEND;VALUE=DATE:20260414
DTSTAMP:20260420T162240
CREATED:20260325T201720Z
LAST-MODIFIED:20260325T201757Z
UID:10000649-1776067200-1776099600@happyhoundsteeth.com
SUMMARY:Back To The Bone Burlington
DESCRIPTION:Address: 495 Walkers Line\, Burlington\, ON L7N 2E3\, Canada \nPhone: +1 289-337-4577
URL:https://happyhoundsteeth.com/event/back-to-the-bone-burlington/2026-04-13/
LOCATION:Back to The Bone Burlington\, Walkers Line 495\, Burlington\, Regional Municipality of Halton\, L7N 2E3\, Canada
GEO:43.354244;-79.7702143
X-APPLE-STRUCTURED-LOCATION;VALUE=URI;X-ADDRESS=Back to The Bone Burlington Walkers Line 495 Burlington Regional Municipality of Halton L7N 2E3 Canada;X-APPLE-RADIUS=500;X-TITLE=Walkers Line 495:geo:-79.7702143,43.354244
END:VEVENT
BEGIN:VEVENT
DTSTART;VALUE=DATE:20260414
DTEND;VALUE=DATE:20260415
DTSTAMP:20260420T162240
CREATED:20250225T223931Z
LAST-MODIFIED:20260325T202506Z
UID:10000135-1776124800-1776211199@happyhoundsteeth.com
SUMMARY:Pet Valu London
DESCRIPTION:Address: 631 Commissioners Rd E\, London\, ON N6C 2V1\, Canada \nPhone: +1 519-6819-216
URL:https://happyhoundsteeth.com/event/pet-valu-london/
LOCATION:Pet Valu London\, 631 Commissioners Rd E\, London\, ON N6C 2V1\, Canada\, London\, Ontario\, N6C 2V1\, Canada
GEO:42.957763239975;-81.233164042546
X-APPLE-STRUCTURED-LOCATION;VALUE=URI;X-ADDRESS=Pet Valu London 631 Commissioners Rd E London ON N6C 2V1 Canada London Ontario N6C 2V1 Canada;X-APPLE-RADIUS=500;X-TITLE=631 Commissioners Rd E\, London\, ON N6C 2V1\, Canada:geo:-81.233164042546,42.957763239975
END:VEVENT
BEGIN:VEVENT
DTSTART;VALUE=DATE:20260414
DTEND;VALUE=DATE:20260415
DTSTAMP:20260420T162240
CREATED:20260325T194152Z
LAST-MODIFIED:20260325T200147Z
UID:10000630-1776153600-1776186000@happyhoundsteeth.com
SUMMARY:Happy Hounds Teeth (Home Location)
DESCRIPTION:Address: 3755 Lake Shore Blvd W\, Etobicoke\, ON M8W 1P9\, Canada \nPhone: 416 201-0236
URL:https://happyhoundsteeth.com/event/happy-hounds-teeth-home-location-2/2026-04-14/
LOCATION:Happy Hounds Teeth (Home Location)\, 3755 Lake Shore Blvd W\, Etobicoke\, ON M8W 1P9\, Canada\, Etobicoke\, Ontario\, M8W 1P9\, Canada
GEO:43.5925898;-79.5403041
X-APPLE-STRUCTURED-LOCATION;VALUE=URI;X-ADDRESS=Happy Hounds Teeth (Home Location) 3755 Lake Shore Blvd W Etobicoke ON M8W 1P9 Canada Etobicoke Ontario M8W 1P9 Canada;X-APPLE-RADIUS=500;X-TITLE=3755 Lake Shore Blvd W\, Etobicoke\, ON M8W 1P9\, Canada:geo:-79.5403041,43.5925898
END:VEVENT
BEGIN:VEVENT
DTSTART;VALUE=DATE:20260415
DTEND;VALUE=DATE:20260416
DTSTAMP:20260420T162240
CREATED:20260325T194152Z
LAST-MODIFIED:20260325T200147Z
UID:10000631-1776240000-1776272400@happyhoundsteeth.com
SUMMARY:Happy Hounds Teeth (Home Location)
DESCRIPTION:Address: 3755 Lake Shore Blvd W\, Etobicoke\, ON M8W 1P9\, Canada \nPhone: 416 201-0236
URL:https://happyhoundsteeth.com/event/happy-hounds-teeth-home-location-2/2026-04-15/
LOCATION:Happy Hounds Teeth (Home Location)\, 3755 Lake Shore Blvd W\, Etobicoke\, ON M8W 1P9\, Canada\, Etobicoke\, Ontario\, M8W 1P9\, Canada
GEO:43.5925898;-79.5403041
X-APPLE-STRUCTURED-LOCATION;VALUE=URI;X-ADDRESS=Happy Hounds Teeth (Home Location) 3755 Lake Shore Blvd W Etobicoke ON M8W 1P9 Canada Etobicoke Ontario M8W 1P9 Canada;X-APPLE-RADIUS=500;X-TITLE=3755 Lake Shore Blvd W\, Etobicoke\, ON M8W 1P9\, Canada:geo:-79.5403041,43.5925898
END:VEVENT
BEGIN:VEVENT
DTSTART;VALUE=DATE:20260415
DTEND;VALUE=DATE:20260416
DTSTAMP:20260420T162240
CREATED:20260325T201333Z
LAST-MODIFIED:20260325T202544Z
UID:10000651-1776240000-1776272400@happyhoundsteeth.com
SUMMARY:Back to the bone oakville
DESCRIPTION:Address: Back To The Bone Oakville\, 380 Dundas St E #2D\, Oakville\,L6H 6Z9 Oakville\, Ontario L6H 6Z9 Canada \nPhone: 1-905-257-3444
URL:https://happyhoundsteeth.com/event/back-to-the-bone-oakville-2-2-2/2026-04-15/
LOCATION:Back To The Bone Oakville\, 380 Dundas St E #2D\, Oakville\,L6H 6Z9\, Oakville\, Ontario\, L6H 6Z9\, Canada
GEO:43.4887642;-79.7172321
X-APPLE-STRUCTURED-LOCATION;VALUE=URI;X-ADDRESS=Back To The Bone Oakville 380 Dundas St E #2D OakvilleL6H 6Z9 Oakville Ontario L6H 6Z9 Canada;X-APPLE-RADIUS=500;X-TITLE=380 Dundas St E #2D\, Oakville\,L6H 6Z9:geo:-79.7172321,43.4887642
END:VEVENT
BEGIN:VEVENT
DTSTART;VALUE=DATE:20260416
DTEND;VALUE=DATE:20260417
DTSTAMP:20260420T162240
CREATED:20251229T220638Z
LAST-MODIFIED:20260325T202632Z
UID:10000475-1776297600-1776383999@happyhoundsteeth.com
SUMMARY:FUR BAR Newmarket
DESCRIPTION:Address: FUR BAR Newmarket\, 17665 Leslie Street\, Unit 8 Newmarket\, ON L3Y 3E3 Newmarket\, Ontario L3Y 3E3 Canada  \nPhone: +1-905-953-1313
URL:https://happyhoundsteeth.com/event/fur-bar-newmarket-2/
LOCATION:FUR BAR Newmarket\, 17665 Leslie Street\, Unit 8 Newmarket\, ON L3Y 3E3\, Newmarket\, Ontario\, L3Y 3E3\, Canada
ATTACH;FMTTYPE=image/jpeg:https://happyhoundsteeth.com/wp-content/uploads/2024/11/event-img.jpg
GEO:44.0705528;-79.4318602
X-APPLE-STRUCTURED-LOCATION;VALUE=URI;X-ADDRESS=FUR BAR Newmarket 17665 Leslie Street Unit 8 Newmarket ON L3Y 3E3 Newmarket Ontario L3Y 3E3 Canada;X-APPLE-RADIUS=500;X-TITLE=17665 Leslie Street\, Unit 8 Newmarket\, ON L3Y 3E3:geo:-79.4318602,44.0705528
END:VEVENT
BEGIN:VEVENT
DTSTART;VALUE=DATE:20260416
DTEND;VALUE=DATE:20260417
DTSTAMP:20260420T162240
CREATED:20260325T194152Z
LAST-MODIFIED:20260325T200147Z
UID:10000632-1776326400-1776358800@happyhoundsteeth.com
SUMMARY:Happy Hounds Teeth (Home Location)
DESCRIPTION:Address: 3755 Lake Shore Blvd W\, Etobicoke\, ON M8W 1P9\, Canada \nPhone: 416 201-0236
URL:https://happyhoundsteeth.com/event/happy-hounds-teeth-home-location-2/2026-04-16/
LOCATION:Happy Hounds Teeth (Home Location)\, 3755 Lake Shore Blvd W\, Etobicoke\, ON M8W 1P9\, Canada\, Etobicoke\, Ontario\, M8W 1P9\, Canada
GEO:43.5925898;-79.5403041
X-APPLE-STRUCTURED-LOCATION;VALUE=URI;X-ADDRESS=Happy Hounds Teeth (Home Location) 3755 Lake Shore Blvd W Etobicoke ON M8W 1P9 Canada Etobicoke Ontario M8W 1P9 Canada;X-APPLE-RADIUS=500;X-TITLE=3755 Lake Shore Blvd W\, Etobicoke\, ON M8W 1P9\, Canada:geo:-79.5403041,43.5925898
END:VEVENT
BEGIN:VEVENT
DTSTART;VALUE=DATE:20260417
DTEND;VALUE=DATE:20260418
DTSTAMP:20260420T162240
CREATED:20260129T191532Z
LAST-MODIFIED:20260325T202700Z
UID:10000555-1776384000-1776470399@happyhoundsteeth.com
SUMMARY:Bone and Biscuit Parkside Mississauga
DESCRIPTION:Address:432 Square One Dr\, Mississauga\, ON\nLSB OR7 \nPhone:(905) 566-9697
URL:https://happyhoundsteeth.com/event/bone-and-biscuit-parkside-mississauga/
LOCATION:Bone and Biscuit Parkside Mississauga\, 432 Square One Dr\, Mississauga\, Mississauga\, Ontario\, LSB OR7\, Canada
GEO:43.58817;-79.6507
X-APPLE-STRUCTURED-LOCATION;VALUE=URI;X-ADDRESS=Bone and Biscuit Parkside Mississauga 432 Square One Dr Mississauga Mississauga Ontario LSB OR7 Canada;X-APPLE-RADIUS=500;X-TITLE=432 Square One Dr\, Mississauga:geo:-79.6507,43.58817
END:VEVENT
BEGIN:VEVENT
DTSTART;VALUE=DATE:20260417
DTEND;VALUE=DATE:20260418
DTSTAMP:20260420T162240
CREATED:20241225T221916Z
LAST-MODIFIED:20260325T202722Z
UID:10000098-1776384000-1776470399@happyhoundsteeth.com
SUMMARY:The Canine Social Company Ltd
DESCRIPTION:Address: Danforth Avenue 1872 Toronto\, Ontario M4C 1J4 Canada \nPhone #: 1-416-425-2275
URL:https://happyhoundsteeth.com/event/the-canine-social-company-ltd/
LOCATION:The Canine Social Company Ltd\, Danforth Avenue 1872\, Toronto\, Toronto\, M4C 1J4\, Canada
GEO:43.6849884;-79.3171783
X-APPLE-STRUCTURED-LOCATION;VALUE=URI;X-ADDRESS=The Canine Social Company Ltd Danforth Avenue 1872 Toronto Toronto M4C 1J4 Canada;X-APPLE-RADIUS=500;X-TITLE=Danforth Avenue 1872:geo:-79.3171783,43.6849884
END:VEVENT
BEGIN:VEVENT
DTSTART;VALUE=DATE:20260417
DTEND;VALUE=DATE:20260418
DTSTAMP:20260420T162240
CREATED:20260325T194152Z
LAST-MODIFIED:20260325T200147Z
UID:10000633-1776412800-1776445200@happyhoundsteeth.com
SUMMARY:Happy Hounds Teeth (Home Location)
DESCRIPTION:Address: 3755 Lake Shore Blvd W\, Etobicoke\, ON M8W 1P9\, Canada \nPhone: 416 201-0236
URL:https://happyhoundsteeth.com/event/happy-hounds-teeth-home-location-2/2026-04-17/
LOCATION:Happy Hounds Teeth (Home Location)\, 3755 Lake Shore Blvd W\, Etobicoke\, ON M8W 1P9\, Canada\, Etobicoke\, Ontario\, M8W 1P9\, Canada
GEO:43.5925898;-79.5403041
X-APPLE-STRUCTURED-LOCATION;VALUE=URI;X-ADDRESS=Happy Hounds Teeth (Home Location) 3755 Lake Shore Blvd W Etobicoke ON M8W 1P9 Canada Etobicoke Ontario M8W 1P9 Canada;X-APPLE-RADIUS=500;X-TITLE=3755 Lake Shore Blvd W\, Etobicoke\, ON M8W 1P9\, Canada:geo:-79.5403041,43.5925898
END:VEVENT
BEGIN:VEVENT
DTSTART;VALUE=DATE:20260418
DTEND;VALUE=DATE:20260419
DTSTAMP:20260420T162240
CREATED:20241120T190843Z
LAST-MODIFIED:20260325T203043Z
UID:10000020-1776470400-1776556799@happyhoundsteeth.com
SUMMARY:Global Pet Foods Ancaster
DESCRIPTION:73 Wilson St W\, Ancaster\, ON L9G 1N1\, Canada \nPhone: +1 905-304-0020
URL:https://happyhoundsteeth.com/event/global-pet-foods-ancaster/
LOCATION:Global Pet Foods Ancaster\, Wilson Street West 73\, Hamilton\, Hamilton\, L9G 1N1\, Canada
GEO:43.2169922;-79.9898449
X-APPLE-STRUCTURED-LOCATION;VALUE=URI;X-ADDRESS=Global Pet Foods Ancaster Wilson Street West 73 Hamilton Hamilton L9G 1N1 Canada;X-APPLE-RADIUS=500;X-TITLE=Wilson Street West 73:geo:-79.9898449,43.2169922
END:VEVENT
BEGIN:VEVENT
DTSTART;VALUE=DATE:20260418
DTEND;VALUE=DATE:20260419
DTSTAMP:20260420T162240
CREATED:20241128T234346Z
LAST-MODIFIED:20260325T203016Z
UID:10000048-1776470400-1776556799@happyhoundsteeth.com
SUMMARY:Timmie Doggie Outfitter Leslieville East
DESCRIPTION:Address: 1178 Queen Street E\, Toronto\, ON M4M 1L4\nPhone: +1 416-406-4999 \n 
URL:https://happyhoundsteeth.com/event/timmie-doggie-outfitter-leslieville-east/
LOCATION:Timmie Doggie Outfitter Leslieville East\, Queen Street East 1178\, Toronto\, Toronto\, M4M 1L4\, Canada
ATTACH;FMTTYPE=image/jpeg:https://happyhoundsteeth.com/wp-content/uploads/2024/11/event-img.jpg
GEO:43.6630065;-79.3320385
X-APPLE-STRUCTURED-LOCATION;VALUE=URI;X-ADDRESS=Timmie Doggie Outfitter Leslieville East Queen Street East 1178 Toronto Toronto M4M 1L4 Canada;X-APPLE-RADIUS=500;X-TITLE=Queen Street East 1178:geo:-79.3320385,43.6630065
END:VEVENT
BEGIN:VEVENT
DTSTART;VALUE=DATE:20260418
DTEND;VALUE=DATE:20260419
DTSTAMP:20260420T162240
CREATED:20260325T194152Z
LAST-MODIFIED:20260325T200147Z
UID:10000634-1776499200-1776531600@happyhoundsteeth.com
SUMMARY:Happy Hounds Teeth (Home Location)
DESCRIPTION:Address: 3755 Lake Shore Blvd W\, Etobicoke\, ON M8W 1P9\, Canada \nPhone: 416 201-0236
URL:https://happyhoundsteeth.com/event/happy-hounds-teeth-home-location-2/2026-04-18/
LOCATION:Happy Hounds Teeth (Home Location)\, 3755 Lake Shore Blvd W\, Etobicoke\, ON M8W 1P9\, Canada\, Etobicoke\, Ontario\, M8W 1P9\, Canada
GEO:43.5925898;-79.5403041
X-APPLE-STRUCTURED-LOCATION;VALUE=URI;X-ADDRESS=Happy Hounds Teeth (Home Location) 3755 Lake Shore Blvd W Etobicoke ON M8W 1P9 Canada Etobicoke Ontario M8W 1P9 Canada;X-APPLE-RADIUS=500;X-TITLE=3755 Lake Shore Blvd W\, Etobicoke\, ON M8W 1P9\, Canada:geo:-79.5403041,43.5925898
END:VEVENT
BEGIN:VEVENT
DTSTART;VALUE=DATE:20260419
DTEND;VALUE=DATE:20260420
DTSTAMP:20260420T162240
CREATED:20241225T214947Z
LAST-MODIFIED:20260325T203123Z
UID:10000359-1776556800-1776643199@happyhoundsteeth.com
SUMMARY:Global Pet Foods Milton
DESCRIPTION:Address: Kennedy Circle 1030 Milton\, Ontario L9T 0J9 Canada \nPhone: +1 905-864-9738
URL:https://happyhoundsteeth.com/event/global-pet-foods-milton/
LOCATION:Global Pet Foods Milton\, Kennedy Circle 1030\, Milton\, Regional Municipality of Halton\, L9T 0J9\, Canada
GEO:43.5089619;-79.8379902
X-APPLE-STRUCTURED-LOCATION;VALUE=URI;X-ADDRESS=Global Pet Foods Milton Kennedy Circle 1030 Milton Regional Municipality of Halton L9T 0J9 Canada;X-APPLE-RADIUS=500;X-TITLE=Kennedy Circle 1030:geo:-79.8379902,43.5089619
END:VEVENT
BEGIN:VEVENT
DTSTART;VALUE=DATE:20260419
DTEND;VALUE=DATE:20260420
DTSTAMP:20260420T162240
CREATED:20250225T231126Z
LAST-MODIFIED:20260325T203139Z
UID:10000142-1776556800-1776643199@happyhoundsteeth.com
SUMMARY:TailWaggers
DESCRIPTION:Address: Tail Waggers\, Dundas Street West 3073 Toronto\, Toronto M6P 1Z5 Canada  \nPhone: +1 416-760-9244
URL:https://happyhoundsteeth.com/event/tailwaggers/
LOCATION:Tailwaggers\, Dundas Street West 3073\, Toronto\, Toronto\, M6P 1Z5\, Canada
GEO:43.6654032;-79.4717575
X-APPLE-STRUCTURED-LOCATION;VALUE=URI;X-ADDRESS=Tailwaggers Dundas Street West 3073 Toronto Toronto M6P 1Z5 Canada;X-APPLE-RADIUS=500;X-TITLE=Dundas Street West 3073:geo:-79.4717575,43.6654032
END:VEVENT
BEGIN:VEVENT
DTSTART;VALUE=DATE:20260420
DTEND;VALUE=DATE:20260421
DTSTAMP:20260420T162240
CREATED:20241120T190030Z
LAST-MODIFIED:20260325T203514Z
UID:10000012-1776643200-1776729599@happyhoundsteeth.com
SUMMARY:Fur Bar North York
DESCRIPTION:2825 Dufferin St\, North York\, ON M6B 3R9\, Canada \nPhone: 1 416-780-9480
URL:https://happyhoundsteeth.com/event/fur-bar-north-york/
LOCATION:Fur Bar North York\, 2825 Dufferin St\, North York\, ON M6B 3R9\, North York\, Toronto\, M6B 3R9\, Canada
GEO:43.7057035;-79.4521653
X-APPLE-STRUCTURED-LOCATION;VALUE=URI;X-ADDRESS=Fur Bar North York 2825 Dufferin St North York ON M6B 3R9 North York Toronto M6B 3R9 Canada;X-APPLE-RADIUS=500;X-TITLE=2825 Dufferin St\, North York\, ON M6B 3R9:geo:-79.4521653,43.7057035
END:VEVENT
BEGIN:VEVENT
DTSTART;VALUE=DATE:20260420
DTEND;VALUE=DATE:20260421
DTSTAMP:20260420T162240
CREATED:20241225T222118Z
LAST-MODIFIED:20260325T203536Z
UID:10000099-1776643200-1776729599@happyhoundsteeth.com
SUMMARY:Home Buddies Doggie Day Care
DESCRIPTION:Phone: 12 Advance Rd\, Etobicoke M8Z 2T4\nphone: +1-416-207-0977
URL:https://happyhoundsteeth.com/event/home-buddies-doggie-day-care/
LOCATION:Home Buddies Doggie Day Care\, 12 Advance Rd\, Etobicoke\, ON M8Z 2T4\, Etobicoke\, Ontario\, M8Z 2T4\, Canada
GEO:43.63367537754;-79.531028851008
X-APPLE-STRUCTURED-LOCATION;VALUE=URI;X-ADDRESS=Home Buddies Doggie Day Care 12 Advance Rd Etobicoke ON M8Z 2T4 Etobicoke Ontario M8Z 2T4 Canada;X-APPLE-RADIUS=500;X-TITLE=12 Advance Rd\, Etobicoke\, ON M8Z 2T4:geo:-79.531028851008,43.63367537754
END:VEVENT
BEGIN:VEVENT
DTSTART;VALUE=DATE:20260420
DTEND;VALUE=DATE:20260421
DTSTAMP:20260420T162240
CREATED:20260325T201720Z
LAST-MODIFIED:20260325T201757Z
UID:10000650-1776672000-1776704400@happyhoundsteeth.com
SUMMARY:Back To The Bone Burlington
DESCRIPTION:Address: 495 Walkers Line\, Burlington\, ON L7N 2E3\, Canada \nPhone: +1 289-337-4577
URL:https://happyhoundsteeth.com/event/back-to-the-bone-burlington/2026-04-20/
LOCATION:Back to The Bone Burlington\, Walkers Line 495\, Burlington\, Regional Municipality of Halton\, L7N 2E3\, Canada
GEO:43.354244;-79.7702143
X-APPLE-STRUCTURED-LOCATION;VALUE=URI;X-ADDRESS=Back to The Bone Burlington Walkers Line 495 Burlington Regional Municipality of Halton L7N 2E3 Canada;X-APPLE-RADIUS=500;X-TITLE=Walkers Line 495:geo:-79.7702143,43.354244
END:VEVENT
BEGIN:VEVENT
DTSTART;VALUE=DATE:20260421
DTEND;VALUE=DATE:20260422
DTSTAMP:20260420T162240
CREATED:20260128T172504Z
LAST-MODIFIED:20260325T203616Z
UID:10000546-1776729600-1776815999@happyhoundsteeth.com
SUMMARY:bone and biscuit kleinberg
DESCRIPTION:Address: 40 Barons St Unit 5\, Kleinburg\, ON L4H 5M1\, Canada \nPhone:  +1 905-893-7770
URL:https://happyhoundsteeth.com/event/bone-and-biscuit-kleinberg/
LOCATION:Bone and Biscuit Kleinburg\, 40 barons st unit 5 Kkeinburg\, on L4H5M1\, Kleinburg\, Ontario\, L4H 5M1\, Canada
GEO:43.8258623;-79.6519637
X-APPLE-STRUCTURED-LOCATION;VALUE=URI;X-ADDRESS=Bone and Biscuit Kleinburg 40 barons st unit 5 Kkeinburg on L4H5M1 Kleinburg Ontario L4H 5M1 Canada;X-APPLE-RADIUS=500;X-TITLE=40 barons st unit 5 Kkeinburg\, on L4H5M1:geo:-79.6519637,43.8258623
END:VEVENT
BEGIN:VEVENT
DTSTART;VALUE=DATE:20260421
DTEND;VALUE=DATE:20260422
DTSTAMP:20260420T162240
CREATED:20260325T194152Z
LAST-MODIFIED:20260325T200147Z
UID:10000635-1776758400-1776790800@happyhoundsteeth.com
SUMMARY:Happy Hounds Teeth (Home Location)
DESCRIPTION:Address: 3755 Lake Shore Blvd W\, Etobicoke\, ON M8W 1P9\, Canada \nPhone: 416 201-0236
URL:https://happyhoundsteeth.com/event/happy-hounds-teeth-home-location-2/2026-04-21/
LOCATION:Happy Hounds Teeth (Home Location)\, 3755 Lake Shore Blvd W\, Etobicoke\, ON M8W 1P9\, Canada\, Etobicoke\, Ontario\, M8W 1P9\, Canada
GEO:43.5925898;-79.5403041
X-APPLE-STRUCTURED-LOCATION;VALUE=URI;X-ADDRESS=Happy Hounds Teeth (Home Location) 3755 Lake Shore Blvd W Etobicoke ON M8W 1P9 Canada Etobicoke Ontario M8W 1P9 Canada;X-APPLE-RADIUS=500;X-TITLE=3755 Lake Shore Blvd W\, Etobicoke\, ON M8W 1P9\, Canada:geo:-79.5403041,43.5925898
END:VEVENT
END:VCALENDAR