BEGIN:VCALENDAR
VERSION:2.0
PRODID:-//Happy Hounds Teeth Cleaning - ECPv6.15.20//NONSGML v1.0//EN
CALSCALE:GREGORIAN
METHOD:PUBLISH
X-WR-CALNAME:Happy Hounds Teeth Cleaning
X-ORIGINAL-URL:https://happyhoundsteeth.com
X-WR-CALDESC:Events for Happy Hounds Teeth Cleaning
REFRESH-INTERVAL;VALUE=DURATION:PT1H
X-Robots-Tag:noindex
X-PUBLISHED-TTL:PT1H
BEGIN:VTIMEZONE
TZID:UTC
BEGIN:STANDARD
TZOFFSETFROM:+0000
TZOFFSETTO:+0000
TZNAME:UTC
DTSTART:20240101T000000
END:STANDARD
END:VTIMEZONE
BEGIN:VEVENT
DTSTART;VALUE=DATE:20250209
DTEND;VALUE=DATE:20250210
DTSTAMP:20260420T095820
CREATED:20241225T212129Z
LAST-MODIFIED:20250125T012446Z
UID:10000075-1739059200-1739145599@happyhoundsteeth.com
SUMMARY:Mas and Paws Pet Resort
DESCRIPTION:Address: Saint Johns Side Road 5542 Whitchurch-Stouffville\, Ontario L3Y 4W1 Canada \nPhone #: 289-926-9822
URL:https://happyhoundsteeth.com/event/mas-and-paws-pet-resort/
LOCATION:Mas and Paws Pet Resort\, Saint Johns Side Road 5542\, Whitchurch-Stouffville\, Regional Municipality of York\, L3Y 4W1\, Canada
GEO:44.0587876;-79.2919708
X-APPLE-STRUCTURED-LOCATION;VALUE=URI;X-ADDRESS=Mas and Paws Pet Resort Saint Johns Side Road 5542 Whitchurch-Stouffville Regional Municipality of York L3Y 4W1 Canada;X-APPLE-RADIUS=500;X-TITLE=Saint Johns Side Road 5542:geo:-79.2919708,44.0587876
END:VEVENT
BEGIN:VEVENT
DTSTART;VALUE=DATE:20250226
DTEND;VALUE=DATE:20250227
DTSTAMP:20260420T095820
CREATED:20250125T015429Z
LAST-MODIFIED:20250125T015429Z
UID:10000129-1740528000-1740614399@happyhoundsteeth.com
SUMMARY:Global Pet Foods New Market
DESCRIPTION:Address: Global Pet Foods New Market\, Davis Drive 130 Newmarket\, Regional Municipality of York L3Y 8V4 Canada \nPhone: (905) 898-7910
URL:https://happyhoundsteeth.com/event/global-pet-foods-new-market-3/
LOCATION:Global Pet Foods New Market\, Davis Drive 130\, Newmarket\, Regional Municipality of York\, L3Y 8V4\, Canada
GEO:44.0555013;-79.4752443
X-APPLE-STRUCTURED-LOCATION;VALUE=URI;X-ADDRESS=Global Pet Foods New Market Davis Drive 130 Newmarket Regional Municipality of York L3Y 8V4 Canada;X-APPLE-RADIUS=500;X-TITLE=Davis Drive 130:geo:-79.4752443,44.0555013
END:VEVENT
END:VCALENDAR