BEGIN:VCALENDAR
VERSION:2.0
PRODID:-//Happy Hounds Teeth Cleaning - ECPv6.15.20//NONSGML v1.0//EN
CALSCALE:GREGORIAN
METHOD:PUBLISH
X-ORIGINAL-URL:https://happyhoundsteeth.com
X-WR-CALDESC:Events for Happy Hounds Teeth Cleaning
REFRESH-INTERVAL;VALUE=DURATION:PT1H
X-Robots-Tag:noindex
X-PUBLISHED-TTL:PT1H
BEGIN:VTIMEZONE
TZID:UTC
BEGIN:STANDARD
TZOFFSETFROM:+0000
TZOFFSETTO:+0000
TZNAME:UTC
DTSTART:20240101T000000
END:STANDARD
END:VTIMEZONE
BEGIN:VEVENT
DTSTART;VALUE=DATE:20250813
DTEND;VALUE=DATE:20250814
DTSTAMP:20260420T182847
CREATED:20250725T230741Z
LAST-MODIFIED:20250725T230749Z
UID:10000309-1755043200-1755129599@happyhoundsteeth.com
SUMMARY:Love & Paws
DESCRIPTION:
URL:https://happyhoundsteeth.com/event/love-paws/
LOCATION:Love & Paws\, Kingston Road 376\, Pickering\, Regional Municipality of Durham\, L1V 6K4\, Canada
GEO:43.8110086;-79.1292533
X-APPLE-STRUCTURED-LOCATION;VALUE=URI;X-ADDRESS=Love & Paws Kingston Road 376 Pickering Regional Municipality of Durham L1V 6K4 Canada;X-APPLE-RADIUS=500;X-TITLE=Kingston Road 376:geo:-79.1292533,43.8110086
END:VEVENT
BEGIN:VEVENT
DTSTART;VALUE=DATE:20250816
DTEND;VALUE=DATE:20250817
DTSTAMP:20260420T182847
CREATED:20250418T212138Z
LAST-MODIFIED:20250725T231128Z
UID:10000310-1755331200-1755363600@happyhoundsteeth.com
SUMMARY:Bark N’ Bath Grooming Whitby
DESCRIPTION:Address: Bark N’ Bath Grooming Whitby\, Anderson Street 728 Whitby\, Ontario L1N 3V6 Canada \nPhone: +1 905-665-5550
URL:https://happyhoundsteeth.com/event/bark-n-bath-grooming-whitby/2025-08-16/
LOCATION:Bark N’ Bath Grooming Whitby\, Anderson Street 728\, Whitby\, Ontario\, L1N 3V6\, Canada
GEO:43.893971;-78.9282054
X-APPLE-STRUCTURED-LOCATION;VALUE=URI;X-ADDRESS=Bark N’ Bath Grooming Whitby Anderson Street 728 Whitby Ontario L1N 3V6 Canada;X-APPLE-RADIUS=500;X-TITLE=Anderson Street 728:geo:-78.9282054,43.893971
END:VEVENT
BEGIN:VEVENT
DTSTART;VALUE=DATE:20250829
DTEND;VALUE=DATE:20250830
DTSTAMP:20260420T182847
CREATED:20241128T234206Z
LAST-MODIFIED:20251216T002739Z
UID:10000047-1756425600-1756511999@happyhoundsteeth.com
SUMMARY:Bone and Biscuit Yonge Sheppard
DESCRIPTION:Address: 4841 Yonge st unit 119A North York\, ON M2N 5X2 North York\, Ontario M2N 5X2 Canada \nPhone#: 647 368 8358
URL:https://happyhoundsteeth.com/event/bone-and-biscuit-yonge-sheppard/
LOCATION:Bone and Biscuit Yonge Sheppard\, 4841 Yonge st unit 119A North York\, ON M2N 5X2\, North York\, Ontario\, M2N 5X2\, Canada
ATTACH;FMTTYPE=image/jpeg:https://happyhoundsteeth.com/wp-content/uploads/2024/11/event-img.jpg
GEO:43.7624589;-79.4104277
X-APPLE-STRUCTURED-LOCATION;VALUE=URI;X-ADDRESS=Bone and Biscuit Yonge Sheppard 4841 Yonge st unit 119A North York ON M2N 5X2 North York Ontario M2N 5X2 Canada;X-APPLE-RADIUS=500;X-TITLE=4841 Yonge st unit 119A North York\, ON M2N 5X2:geo:-79.4104277,43.7624589
END:VEVENT
BEGIN:VEVENT
DTSTART;VALUE=DATE:20250830
DTEND;VALUE=DATE:20250831
DTSTAMP:20260420T182847
CREATED:20241225T215121Z
LAST-MODIFIED:20250725T232108Z
UID:10000085-1756512000-1756598399@happyhoundsteeth.com
SUMMARY:Global Pet Foods Ancaster
DESCRIPTION:Address: 73 Wilson St W\, Ancaster\, ON\, L9G 1N1\nPhone #: 1-905-304-0020
URL:https://happyhoundsteeth.com/event/global-pet-foods-ancaster-2/
LOCATION:Global Pet Foods Ancaster\, Wilson Street West 73\, Hamilton\, Hamilton\, L9G 1N1\, Canada
GEO:43.2169922;-79.9898449
X-APPLE-STRUCTURED-LOCATION;VALUE=URI;X-ADDRESS=Global Pet Foods Ancaster Wilson Street West 73 Hamilton Hamilton L9G 1N1 Canada;X-APPLE-RADIUS=500;X-TITLE=Wilson Street West 73:geo:-79.9898449,43.2169922
END:VEVENT
END:VCALENDAR