BEGIN:VCALENDAR
VERSION:2.0
PRODID:-//Happy Hounds Teeth Cleaning - ECPv6.15.20//NONSGML v1.0//EN
CALSCALE:GREGORIAN
METHOD:PUBLISH
X-ORIGINAL-URL:https://happyhoundsteeth.com
X-WR-CALDESC:Events for Happy Hounds Teeth Cleaning
REFRESH-INTERVAL;VALUE=DURATION:PT1H
X-Robots-Tag:noindex
X-PUBLISHED-TTL:PT1H
BEGIN:VTIMEZONE
TZID:UTC
BEGIN:STANDARD
TZOFFSETFROM:+0000
TZOFFSETTO:+0000
TZNAME:UTC
DTSTART:20240101T000000
END:STANDARD
END:VTIMEZONE
BEGIN:VEVENT
DTSTART;VALUE=DATE:20250906
DTEND;VALUE=DATE:20250907
DTSTAMP:20260420T194513
CREATED:20250328T185639Z
LAST-MODIFIED:20250826T212250Z
UID:10000188-1757116800-1757203199@happyhoundsteeth.com
SUMMARY:Nice Diggz Etobicoke
DESCRIPTION:Address: Dundas Street West 5094 Toronto\, Toronto M9A 1C2 Canada \nPhone: 1-647-867-3644
URL:https://happyhoundsteeth.com/event/nice-diggz-etobicoke/
LOCATION:Nice Diggz Etobicoke\, Dundas Street West 5094\, Toronto\, Toronto\, M9A 1C2\, Canada
GEO:43.6450464;-79.5326913
X-APPLE-STRUCTURED-LOCATION;VALUE=URI;X-ADDRESS=Nice Diggz Etobicoke Dundas Street West 5094 Toronto Toronto M9A 1C2 Canada;X-APPLE-RADIUS=500;X-TITLE=Dundas Street West 5094:geo:-79.5326913,43.6450464
END:VEVENT
BEGIN:VEVENT
DTSTART;VALUE=DATE:20250920
DTEND;VALUE=DATE:20250921
DTSTAMP:20260420T194513
CREATED:20250826T214240Z
LAST-MODIFIED:20250826T222855Z
UID:10000364-1758326400-1758412799@happyhoundsteeth.com
SUMMARY:Fifi's Dog Parlour
DESCRIPTION:Address: 180 Tecumseh Rd E Unit C\, Windsor\, ON N8X 2P8\, Canada \nphone: 1 519-254-2275
URL:https://happyhoundsteeth.com/event/fifis-dog-parlour/2025-09-20/
LOCATION:Fifi’s Dog Parlour\, Tecumseh Road East 180\, Windsor\, Ontario\, N8X 2P8\, Canada
GEO:42.2970934;-83.0226252
X-APPLE-STRUCTURED-LOCATION;VALUE=URI;X-ADDRESS=Fifi’s Dog Parlour Tecumseh Road East 180 Windsor Ontario N8X 2P8 Canada;X-APPLE-RADIUS=500;X-TITLE=Tecumseh Road East 180:geo:-83.0226252,42.2970934
END:VEVENT
BEGIN:VEVENT
DTSTART;VALUE=DATE:20250921
DTEND;VALUE=DATE:20250922
DTSTAMP:20260420T194513
CREATED:20250125T014218Z
LAST-MODIFIED:20250826T214549Z
UID:10000124-1758412800-1758499199@happyhoundsteeth.com
SUMMARY:Pet Valu Roncesvalles
DESCRIPTION:Address: Pet Valu Roncesvalles\, Roncesvalles Avenue 422 Toronto\, Toronto M6R 3B9 Canada \nPhone: 416 537 9240
URL:https://happyhoundsteeth.com/event/pet-valu-roncesvalles/
LOCATION:Pet Valu Roncesvalles\, Roncesvalles Avenue 422\, Toronto\, Toronto\, M6R 3B9\, Canada
GEO:43.6519074;-79.4513556
X-APPLE-STRUCTURED-LOCATION;VALUE=URI;X-ADDRESS=Pet Valu Roncesvalles Roncesvalles Avenue 422 Toronto Toronto M6R 3B9 Canada;X-APPLE-RADIUS=500;X-TITLE=Roncesvalles Avenue 422:geo:-79.4513556,43.6519074
END:VEVENT
BEGIN:VEVENT
DTSTART;VALUE=DATE:20250921
DTEND;VALUE=DATE:20250922
DTSTAMP:20260420T194513
CREATED:20250826T214240Z
LAST-MODIFIED:20250826T222855Z
UID:10000346-1758441600-1758474000@happyhoundsteeth.com
SUMMARY:Fifi's Dog Parlour
DESCRIPTION:Address: 180 Tecumseh Rd E Unit C\, Windsor\, ON N8X 2P8\, Canada \nphone: 1 519-254-2275
URL:https://happyhoundsteeth.com/event/fifis-dog-parlour/2025-09-21/
LOCATION:Fifi’s Dog Parlour\, Tecumseh Road East 180\, Windsor\, Ontario\, N8X 2P8\, Canada
GEO:42.2970934;-83.0226252
X-APPLE-STRUCTURED-LOCATION;VALUE=URI;X-ADDRESS=Fifi’s Dog Parlour Tecumseh Road East 180 Windsor Ontario N8X 2P8 Canada;X-APPLE-RADIUS=500;X-TITLE=Tecumseh Road East 180:geo:-83.0226252,42.2970934
END:VEVENT
END:VCALENDAR