BEGIN:VCALENDAR
VERSION:2.0
PRODID:-//Happy Hounds Teeth Cleaning - ECPv6.15.20//NONSGML v1.0//EN
CALSCALE:GREGORIAN
METHOD:PUBLISH
X-WR-CALNAME:Happy Hounds Teeth Cleaning
X-ORIGINAL-URL:https://happyhoundsteeth.com
X-WR-CALDESC:Events for Happy Hounds Teeth Cleaning
REFRESH-INTERVAL;VALUE=DURATION:PT1H
X-Robots-Tag:noindex
X-PUBLISHED-TTL:PT1H
BEGIN:VTIMEZONE
TZID:UTC
BEGIN:STANDARD
TZOFFSETFROM:+0000
TZOFFSETTO:+0000
TZNAME:UTC
DTSTART:20240101T000000
END:STANDARD
END:VTIMEZONE
BEGIN:VEVENT
DTSTART;VALUE=DATE:20251102
DTEND;VALUE=DATE:20251103
DTSTAMP:20260420T223349
CREATED:20251027T195801Z
LAST-MODIFIED:20251027T195830Z
UID:10000405-1762041600-1762127999@happyhoundsteeth.com
SUMMARY:North York Pooches Grooming Salon
DESCRIPTION:Address: 156 Elder St\, North York\, ON M3H 5H1\, Canada \nPhone: +1 416-908-9595
URL:https://happyhoundsteeth.com/event/north-york-pooches-grooming-salon/
LOCATION:North York Pooches Grooming Salon\, 156 Elder St\,North York\,ON M3H 5H1\, North York\, Toronto\, M3H 5H1\, Canada
GEO:43.7638528;-79.4551483
X-APPLE-STRUCTURED-LOCATION;VALUE=URI;X-ADDRESS=North York Pooches Grooming Salon 156 Elder StNorth YorkON M3H 5H1 North York Toronto M3H 5H1 Canada;X-APPLE-RADIUS=500;X-TITLE=156 Elder St\,North York\,ON M3H 5H1:geo:-79.4551483,43.7638528
END:VEVENT
BEGIN:VEVENT
DTSTART;VALUE=DATE:20251116
DTEND;VALUE=DATE:20251117
DTSTAMP:20260420T223349
CREATED:20241128T011411Z
LAST-MODIFIED:20251127T195449Z
UID:10000027-1763251200-1763337599@happyhoundsteeth.com
SUMMARY:Yellow dog Ancaster
DESCRIPTION:73 Wilson St W #23b\, Ancaster\, ON L9G 1N1\, Canada
URL:https://happyhoundsteeth.com/event/yellow-dog-ancaster/2025-11-16/
LOCATION:Yellow Dog Grooming Ancaster\, 73 Wilson St W #23b\, Ancaster\, ON L9G 1N1\, Canada\, Ancaster\, Ontario\, L9G 1N1\, Canada
GEO:43.216253;-79.9902622
X-APPLE-STRUCTURED-LOCATION;VALUE=URI;X-ADDRESS=Yellow Dog Grooming Ancaster 73 Wilson St W #23b Ancaster ON L9G 1N1 Canada Ancaster Ontario L9G 1N1 Canada;X-APPLE-RADIUS=500;X-TITLE=73 Wilson St W #23b\, Ancaster\, ON L9G 1N1\, Canada:geo:-79.9902622,43.216253
END:VEVENT
BEGIN:VEVENT
DTSTART;VALUE=DATE:20251124
DTEND;VALUE=DATE:20251125
DTSTAMP:20260420T223349
CREATED:20251027T231515Z
LAST-MODIFIED:20251027T231515Z
UID:10000444-1763942400-1764028799@happyhoundsteeth.com
SUMMARY:Goochie Poochie
DESCRIPTION:
URL:https://happyhoundsteeth.com/event/goochie-poochie/
LOCATION:Goochie Poochie\, Brinell Avenue 2343\, Burlington\, Regional Municipality of Halton\, L7R 3P6\, Canada
GEO:43.3463065;-79.8054441
X-APPLE-STRUCTURED-LOCATION;VALUE=URI;X-ADDRESS=Goochie Poochie Brinell Avenue 2343 Burlington Regional Municipality of Halton L7R 3P6 Canada;X-APPLE-RADIUS=500;X-TITLE=Brinell Avenue 2343:geo:-79.8054441,43.3463065
END:VEVENT
BEGIN:VEVENT
DTSTART;VALUE=DATE:20251128
DTEND;VALUE=DATE:20251129
DTSTAMP:20260420T223349
CREATED:20241225T223129Z
LAST-MODIFIED:20251027T223738Z
UID:10000437-1764316800-1764349200@happyhoundsteeth.com
SUMMARY:Global Pet Foods Vaughan
DESCRIPTION:Address: Major Mackenzie Drive West 3737 Vaughan\, Regional Municipality of York L4H 0A2 Canada \nPhone: 905-303-2228
URL:https://happyhoundsteeth.com/event/global-pet-foods-vaughan-2/2025-11-28/
LOCATION:Global Pet Foods Vaughan\, Major Mackenzie Drive West 3737\, Vaughan\, Regional Municipality of York\, L4H 0A2\, Canada
GEO:43.843855;-79.5586
X-APPLE-STRUCTURED-LOCATION;VALUE=URI;X-ADDRESS=Global Pet Foods Vaughan Major Mackenzie Drive West 3737 Vaughan Regional Municipality of York L4H 0A2 Canada;X-APPLE-RADIUS=500;X-TITLE=Major Mackenzie Drive West 3737:geo:-79.5586,43.843855
END:VEVENT
BEGIN:VEVENT
DTSTART;VALUE=DATE:20251130
DTEND;VALUE=DATE:20251201
DTSTAMP:20260420T223349
CREATED:20241128T011411Z
LAST-MODIFIED:20251127T195449Z
UID:10000439-1764489600-1764522000@happyhoundsteeth.com
SUMMARY:Yellow dog Ancaster
DESCRIPTION:73 Wilson St W #23b\, Ancaster\, ON L9G 1N1\, Canada
URL:https://happyhoundsteeth.com/event/yellow-dog-ancaster/2025-11-30/
LOCATION:Yellow Dog Grooming Ancaster\, 73 Wilson St W #23b\, Ancaster\, ON L9G 1N1\, Canada\, Ancaster\, Ontario\, L9G 1N1\, Canada
GEO:43.216253;-79.9902622
X-APPLE-STRUCTURED-LOCATION;VALUE=URI;X-ADDRESS=Yellow Dog Grooming Ancaster 73 Wilson St W #23b Ancaster ON L9G 1N1 Canada Ancaster Ontario L9G 1N1 Canada;X-APPLE-RADIUS=500;X-TITLE=73 Wilson St W #23b\, Ancaster\, ON L9G 1N1\, Canada:geo:-79.9902622,43.216253
END:VEVENT
END:VCALENDAR